BEGIN:VCALENDAR
METHOD:publish
PRODID:-//Stadt Ulm//NONSGML v1.0//DE
VERSION:2.0
BEGIN:VEVENT
UID:support@ulm.de
DTSTAMP:20260423T110800Z
DESCRIPTION:Offenes Folkloretanzen mit Live-Musik\n\nEin Abend mit einfachen Tänzen für alle mit Freude an mitreißender Musik, die in Herz, Hirn, Bauch und Beine geht. 
Tänze aus aller Welt - einfach erklärt -für Jung und Alt - kein Partner erforderlich.\n\n\nUm die genauen Informationen noch einmal anzuschauen, klicken Sie bitte auf folgenden Link: \nhttps://veranstaltungen.ulm.de/leoonline/portals/ulm/veranstaltungen/id/52180/
DTEND:20260520T210000
DTSTART:20260520T190000
LOCATION:Haus der Begegnung - 89073 Ulm Grüner Hof 7
SUMMARY:Veranstaltungskalender Ulm/Neu-Ulm - Offenes Folkloretanzen mit Live-Musik
BEGIN:VALARM
ACTION:DISPLAY
TRIGGER:-P1D
END:VALARM
END:VEVENT
END:VCALENDAR
