BEGIN:VCALENDAR
METHOD:publish
PRODID:-//Stadt Ulm//NONSGML v1.0//DE
VERSION:2.0
BEGIN:VEVENT
UID:support@ulm.de
DTSTAMP:20260421T054300Z
DESCRIPTION:Frühling am Hochsträß\n\nBei freiem Eintritt öffnet von 11 Uhr bis 17 Uhr die ehemalige Hochschule für Gestaltung (HfG) am Hochsträß 8 ihre Aula und die große Terrasse für BesucherInnen. 
Der Service-Club Zonta Ulm-Donau hat Kunsthandwerker*innen eingeladen, die an über 30 Ständen Mode & Schmuck, Malerei, Wohnaccessoires, Feinkost und vieles mehr anbieten. 
Kaffee, hausgemachten Kuchen und Quiches, Rote vom Grill und kühle Getränke, Livemusik, eine Tombola und Kinderprogramm verleihen dem Markt eine tolle Atmosphäre.\n\n\nUm die genauen Informationen noch einmal anzuschauen, klicken Sie bitte auf folgenden Link: \nhttps://veranstaltungen.ulm.de/leoonline/portals/ulm/veranstaltungen/id/52148/
DTEND:20260517T170000
DTSTART:20260517T110000
LOCATION:HfG - Hochschule für Gestaltung - 89081 Ulm
SUMMARY:Veranstaltungskalender Ulm/Neu-Ulm - Frühling am Hochsträß
BEGIN:VALARM
ACTION:DISPLAY
TRIGGER:-P1D
END:VALARM
END:VEVENT
END:VCALENDAR
