BEGIN:VCALENDAR
METHOD:publish
PRODID:-//Stadt Ulm//NONSGML v1.0//DE
VERSION:2.0
BEGIN:VEVENT
UID:support@ulm.de
DTSTAMP:20260420T025400Z
DESCRIPTION:lautten compagney BERLIN & Asya Fateyeva\n\nZwei Giganten der europäischen Musikgeschichte zu verbinden – Jean-Philippe Rameau (1683-1764) und ABBA – wirkt zunächst gewagt. Doch ihre eingängigen Melodien, rhythmische Energie und Popularität zeigen überraschende Nähe. Unter dem Titel „Dancing Queen“ schlägt die lautten compagney BERLIN eine Brücke zwischen Barock und Pop. ABBA wird auf historischen Instrumenten gespielt und mit Rameau verschmolzen. Saxophonistin Asya Fateyeva brilliert dabei virtuos zwischen beiden Welten.\n\n\nUm die genauen Informationen noch einmal anzuschauen, klicken Sie bitte auf folgenden Link: \nhttps://veranstaltungen.ulm.de/leoonline/portals/ulm/veranstaltungen/id/52139/
DTEND:20260612T190000
DTSTART:20260612T190000
LOCATION:Lindenhalle Ehingen(Donau) - 89584 Ehingen Lindenstr. 51
SUMMARY:Veranstaltungskalender Ulm/Neu-Ulm - lautten compagney BERLIN & Asya Fateyeva
BEGIN:VALARM
ACTION:DISPLAY
TRIGGER:-P1D
END:VALARM
END:VEVENT
END:VCALENDAR
