BEGIN:VCALENDAR
METHOD:publish
PRODID:-//Stadt Ulm//NONSGML v1.0//DE
VERSION:2.0
BEGIN:VEVENT
UID:support@ulm.de
DTSTAMP:20260424T103000Z
DESCRIPTION:Frühjahrskonzert\n\nKonzert junger Künstler
Johannes Brahms (1833-1897) Konzert für Violine, Violoncello
und Orchester a-Moll op.102
Solisten:    Diego Madrid Missirdjieff – Violine
                  Jonathan Erath – Violoncello

Salomon Jadassohn (1831-1902) Sinfonie Nr. 2 in A Dur, Op. 28
Konzertmeisterin: Gisela Czech-Whitson
Leitung: Michael Eberhardt\n\n\nUm die genauen Informationen noch einmal anzuschauen, klicken Sie bitte auf folgenden Link: \nhttps://veranstaltungen.ulm.de/leoonline/portals/ulm/veranstaltungen/id/52132/
DTEND:20260509T210000
DTSTART:20260509T190000
LOCATION:Kornhaus - 89073 Ulm Kornhausplatz 1
SUMMARY:Veranstaltungskalender Ulm/Neu-Ulm - Frühjahrskonzert
BEGIN:VALARM
ACTION:DISPLAY
TRIGGER:-P1D
END:VALARM
END:VEVENT
END:VCALENDAR
