BEGIN:VCALENDAR
METHOD:publish
PRODID:-//Stadt Ulm//NONSGML v1.0//DE
VERSION:2.0
BEGIN:VEVENT
UID:support@ulm.de
DTSTAMP:20260421T055900Z
DESCRIPTION:Märchenwanderung im Grünen für Familien\n\nMit der Erzählerin Maria Winter entdecken wir die Natur am Eselsberg. Während eines Spaziergangs halten wir an ruhigen Orten an und hören Märchen und Geschichten: mal lustig, mal rührend, mal abenteuerlich. Nach einer Stunde kommen wir wieder zurück an den Anfangsort.

Der Weg ist immer barrierefrei und der Eintritt ist frei. Wir treffen uns am Biergarten der Botanischer Garten.\n\n\nUm die genauen Informationen noch einmal anzuschauen, klicken Sie bitte auf folgenden Link: \nhttps://veranstaltungen.ulm.de/leoonline/portals/ulm/veranstaltungen/id/52127/
DTEND:20260501T160000
DTSTART:20260501T150000
LOCATION:Biergarten Botanischer Garten - 89081 Ulm Hans-Krebs-Weg
SUMMARY:Veranstaltungskalender Ulm/Neu-Ulm - Märchenwanderung im Grünen für Familien
BEGIN:VALARM
ACTION:DISPLAY
TRIGGER:-P1D
END:VALARM
END:VEVENT
END:VCALENDAR
