BEGIN:VCALENDAR
METHOD:publish
PRODID:-//Stadt Ulm//NONSGML v1.0//DE
VERSION:2.0
BEGIN:VEVENT
UID:support@ulm.de
DTSTAMP:20260420T034400Z
DESCRIPTION:Colosseum\n\n„Out Into The Fields“-Tour

Der Name klingt bombastisch, und tatsächlich sind Colosseum so etwas wie die Saurier der Rockmusik: ein Zusammenschluss ungeheuer virtuoser Solisten, gleichwohl mit einem geschlossenen, kompakten Sound und musikalisch stets innovativ. Die Pioniere des britischen Jazz-Rock & Progressive Rock stehen seit 1968 auf der Bühne und liefern im Zelt Klassiker und Highlights aus über fünf Jahrzehnten Bandgeschichte. 

Unter dem Motto “Out Into The Fields“ präsentieren die Gründungsmitglieder Chris Farlowe (lead vocals),  Clem Clempson (guitars & vocals) und Mark Clarke (bass & vocals), verstärkt durch Malcolm Mortimore (drums), Nick Steed (keyboards), Kim Nishikawara  (saxophones) neben Colosseum-Klassikern auch Songs des neuen Studioalbums “XI“.\n\n\nUm die genauen Informationen noch einmal anzuschauen, klicken Sie bitte auf folgenden Link: \nhttps://veranstaltungen.ulm.de/leoonline/portals/ulm/veranstaltungen/id/52050/
DTEND:20260701T220000
DTSTART:20260701T200000
LOCATION:Ulmer Zelt - 89073 Ulm Friedrichsau
SUMMARY:Veranstaltungskalender Ulm/Neu-Ulm - Colosseum
BEGIN:VALARM
ACTION:DISPLAY
TRIGGER:-P1D
END:VALARM
END:VEVENT
END:VCALENDAR
