BEGIN:VCALENDAR
METHOD:publish
PRODID:-//Stadt Ulm//NONSGML v1.0//DE
VERSION:2.0
BEGIN:VEVENT
UID:support@ulm.de
DTSTAMP:20260420T015100Z
DESCRIPTION:Les Tambours du Bronx\n\nMETAL SHOW

Wild, roh, explosiv, revolutionär – Les Tambours du Bronx begeistern seit fast vier Jahrzehnten und über viele Genres hinweg Musikfans rund um den Globus.

Ihre hypnotischen Tribal Percussion-Rhythmen, die rohe Kraft der Metallfässer und die schweren Metal-Elemente ihrer Gitarren-Riffs und wütenden Vocals fusionieren zu einem einzigartigen Gesamtkunstwerk – das jede und jeden weghaut. Nicht zu vergessen, die epische Bühnenshow, die gleichsam durch Wildheit wie durch Disziplin und Präzision fasziniert.

Die 1987 im Industriegebiet von Varennes-Vauzelles in Frankreich gegründete Combo teilte die Bühne bereits mit Ikonen wie Metallica, Sepultura, Page & Plant und Johnny Hallyday. Ihre aktuellste EP „The Wild Pack“ ist ein Manifest der Kraft und des Instinkts. Das ist Musik, die man nicht nur hört, sondern physisch erlebt. Die Wände des ulmer zelts werden beben!\n\n\nUm die genauen Informationen noch einmal anzuschauen, klicken Sie bitte auf folgenden Link: \nhttps://veranstaltungen.ulm.de/leoonline/portals/ulm/veranstaltungen/id/52049/
DTEND:20260527T220000
DTSTART:20260527T200000
LOCATION:Ulmer Zelt - 89073 Ulm Friedrichsau
SUMMARY:Veranstaltungskalender Ulm/Neu-Ulm - Les Tambours du Bronx
BEGIN:VALARM
ACTION:DISPLAY
TRIGGER:-P1D
END:VALARM
END:VEVENT
END:VCALENDAR
