BEGIN:VCALENDAR
METHOD:publish
PRODID:-//Stadt Ulm//NONSGML v1.0//DE
VERSION:2.0
BEGIN:VEVENT
UID:support@ulm.de
DTSTAMP:20260420T015200Z
DESCRIPTION:KRAAN\n\nDer KRAAN Sound geht in eine neue Runde: Haargenau 55 Jahre nach Gründung ist die einzigartige deutsche Fusion Rock Band mit einem neuen Album unterwegs. 

In „All In“ ist „alles drin ist, was die Band ausmacht“ betont Frontmann und Bass-Ikone Hellmut Hattler: Eine energiegeladene Symbiose aus Rock, Jazz & Funk, eine typische Kompositionsweise, ein schwereloser, unverwechselbarer Sound mit virtuosen Soli und Hattlers markanten Basslines. Immer noch klingt keine Band wie KRAAN.

Die Gründungsmitglieder Hellmut Hattler, Peter Wolbrandt (Gitarre) und Jan Fride Wolbrandt (Schlagzeug) werden wieder verstärkt durch Martin Kasper an den Keyboards. Wieder mal ein Heimspiel der Band mit den Ulmer Wurzeln, seit dem ersten Zelt-Jahr 1987 gern gehörte Gäste auf der Zeltbühne.\n\n\nUm die genauen Informationen noch einmal anzuschauen, klicken Sie bitte auf folgenden Link: \nhttps://veranstaltungen.ulm.de/leoonline/portals/ulm/veranstaltungen/id/52048/
DTEND:20260525T220000
DTSTART:20260525T200000
LOCATION:Ulmer Zelt - 89073 Ulm Friedrichsau
SUMMARY:Veranstaltungskalender Ulm/Neu-Ulm - KRAAN
BEGIN:VALARM
ACTION:DISPLAY
TRIGGER:-P1D
END:VALARM
END:VEVENT
END:VCALENDAR
