BEGIN:VCALENDAR
METHOD:publish
PRODID:-//Stadt Ulm//NONSGML v1.0//DE
VERSION:2.0
BEGIN:VEVENT
UID:support@ulm.de
DTSTAMP:20260420T052700Z
DESCRIPTION:MOLA (support: yara)\n\nMOLA steht für ehrliche, emotionale und ungeschönte Popmusik. Die deutschsprachige Band aus München hat sich mit ihrem poetisch-punkigen bis pathetisch-poppigen Indierock längst deutschlandweit einen Namen gemacht. Im Zentrum steht Sängerin und Songwriterin Isabella Streifeneder, deren raue, charismatische Stimme den Songs ihre besondere Dringlichkeit verleiht.

Musikalisch bewegt sich MOLA im Indie-Pop, bricht diesen aber konsequent auf. Elemente aus Hip-Hop, Funk, Elektronik und Soul treffen auf eingängige Melodien und eine klare, direkte Sprache. Die Texte erzählen von Liebe und Selbstfindung, von Rausch, Herzschmerz und langen Nächten – persönlich, kompromisslos und ohne Klischees. Was MOLA besonders macht, ist ihre Authentizität. Statt glatt poliertem Playlist-Pop setzt die Band auf Ehrlichkeit und emotionale Tiefe.

Live entfaltet sich diese Energie intensiv und mitreißend: Konzerte von MOLA sind keine Hintergrundmusik, sondern ein Erlebnis, das Nähe schafft und nachwirkt.

yara:

Worum es yara so wirklich geht, wollen sie gar nicht wissen. Sind es durchfeierte Nächte, das Rauchen, die Liebe oder die Sehnsucht nach irgendwie allem davon. Mal als hedonistische Weltschmerz-Ballade oder als wilde Dada-Einlage auf der Bühne. Für Sänger Jakob gibt es nur das Extreme, das kleine Glück im Alltag schmeißt er gerne von sich. Diese Suche übersetzt er mit Gio, Lisa und Jacque ganz unprätentiös in deutschsprachigen Indie-Rock.\n\n\nUm die genauen Informationen noch einmal anzuschauen, klicken Sie bitte auf folgenden Link: \nhttps://veranstaltungen.ulm.de/leoonline/portals/ulm/veranstaltungen/id/51752/
DTEND:20260703T220000
DTSTART:20260703T200000
LOCATION:Ulmer Zelt - 89073 Ulm Friedrichsau
SUMMARY:Veranstaltungskalender Ulm/Neu-Ulm - MOLA (support: yara)
BEGIN:VALARM
ACTION:DISPLAY
TRIGGER:-P1D
END:VALARM
END:VEVENT
END:VCALENDAR
