BEGIN:VCALENDAR
METHOD:publish
PRODID:-//Stadt Ulm//NONSGML v1.0//DE
VERSION:2.0
BEGIN:VEVENT
UID:support@ulm.de
DTSTAMP:20260420T033000Z
DESCRIPTION:Get Well Soon\n\n20 Jahre Get Well Soon: Das Projekt von Songschreiber und Multiinstrumentalist Konstantin Gropper ist auf großer Jubiläumstour. Seit seinem Zweitwerk „Vexations“ aus dem Jahr 2010 haben es alle seiner Alben in die deutschen Top 20 geschafft.

“Minus The Magic” ist eine mitreißende Live-Show voller Rockenergie und ein Ritt durch melancholische Albträume, getragen von Streichern, Bläsern, Glockenspiel und Groppers unverkennbarer Stimme.  Cineastische Klanglandschaften,  verträumte Balladen, Texte voller Tiefe und Poesie bis zum tanzbaren Indie-Rock:

Ein musikalisches Fest voller Atmosphäre und großer Emotionen.\n\n\nUm die genauen Informationen noch einmal anzuschauen, klicken Sie bitte auf folgenden Link: \nhttps://veranstaltungen.ulm.de/leoonline/portals/ulm/veranstaltungen/id/51749/
DTEND:20260620T220000
DTSTART:20260620T200000
LOCATION:Ulmer Zelt - 89073 Ulm Friedrichsau
SUMMARY:Veranstaltungskalender Ulm/Neu-Ulm - Get Well Soon
BEGIN:VALARM
ACTION:DISPLAY
TRIGGER:-P1D
END:VALARM
END:VEVENT
END:VCALENDAR
