BEGIN:VCALENDAR
METHOD:publish
PRODID:-//Stadt Ulm//NONSGML v1.0//DE
VERSION:2.0
BEGIN:VEVENT
UID:support@ulm.de
DTSTAMP:20260420T015100Z
DESCRIPTION:The Robert Cray Band\n\nBlues-Ikone, Soulman und Rock’n’Roller: Robert Cray zählt zu den prägenden Stimmen der amerikanischen Roots-Musik. Seit über fünf Jahrzehnten steht er für eine eigenständige Verbindung aus Blues, Soul und Rock – geprägt von unverwechselbarem Gitarrenspiel, intensiver Bühnenpräsenz und einer Stimme, die emotionale Tiefe mit stilistischer Eleganz vereint.

Seine Kompositionen thematisieren Liebe, Verlust, gesellschaftliche Entwicklungen und politische Realitäten, während sein Gitarrenton – mal schneidend, mal schmeichelnd – stets als emotionales Sprachrohr dient.

Mit der Robert Cray Band bringt der fünffache Grammy-Preisträger seine 2026 All Amped Up Tour für zwei exklusive Konzerte nach Deutschland.\n\n\nUm die genauen Informationen noch einmal anzuschauen, klicken Sie bitte auf folgenden Link: \nhttps://veranstaltungen.ulm.de/leoonline/portals/ulm/veranstaltungen/id/51748/
DTEND:20260605T220000
DTSTART:20260605T200000
LOCATION:Ulmer Zelt - 89073 Ulm Friedrichsau
SUMMARY:Veranstaltungskalender Ulm/Neu-Ulm - The Robert Cray Band
BEGIN:VALARM
ACTION:DISPLAY
TRIGGER:-P1D
END:VALARM
END:VEVENT
END:VCALENDAR
