BEGIN:VCALENDAR
METHOD:publish
PRODID:-//Stadt Ulm//NONSGML v1.0//DE
VERSION:2.0
BEGIN:VEVENT
UID:support@ulm.de
DTSTAMP:20260420T034400Z
DESCRIPTION:Heather Nova\n\nAls Heather Nova in den 90ern mit Oyster zur Ikone des Alternative-Folk-Rock wurde, prägte sie mit Songs zwischen Indie, Melancholie und Aufbruch eine ganze Generation. Ihre warme, eindringliche Stimme hat diese seltene Mischung aus Kraft und Zerbrechlichkeit; sie kann ein Festivalzelt mühelos füllen und im nächsten Moment so leise werden, dass man jedes Atmen hört.

Auf dieser Tour steht sie nicht mit großer Band auf der Bühne, sondern im Duo: Heather Nova an Gitarre und Gesang, begleitet von Cello und Backing Vocals – zwei Musiker*innen, die das Ulmer Zelt mit erstaunlicher Tiefe, Dynamik und Intensität füllen. Kraftvoll, manchmal leise und zeitlos schön.

Der Sonnenuntergang und anschließender Sternenhimmel in der Friedrichsau könnten dazu nicht besser passen.\n\n\nUm die genauen Informationen noch einmal anzuschauen, klicken Sie bitte auf folgenden Link: \nhttps://veranstaltungen.ulm.de/leoonline/portals/ulm/veranstaltungen/id/51747/
DTEND:20260603T220000
DTSTART:20260603T200000
LOCATION:Ulmer Zelt - 89073 Ulm Friedrichsau
SUMMARY:Veranstaltungskalender Ulm/Neu-Ulm - Heather Nova
BEGIN:VALARM
ACTION:DISPLAY
TRIGGER:-P1D
END:VALARM
END:VEVENT
END:VCALENDAR
