BEGIN:VCALENDAR
METHOD:publish
PRODID:-//Stadt Ulm//NONSGML v1.0//DE
VERSION:2.0
BEGIN:VEVENT
UID:support@ulm.de
DTSTAMP:20260425T060200Z
DESCRIPTION:Steuergeschichte - Steuergeschichten\n\nTeil 1: Die Zeit vom alten Ägypten, über die Römerzeit, das Mittelalter bis in die Gegenwart (international, national, lokal)\n\n\nUm die genauen Informationen noch einmal anzuschauen, klicken Sie bitte auf folgenden Link: \nhttps://veranstaltungen.ulm.de/leoonline/portals/ulm/veranstaltungen/id/52316/
DTEND:20260502T150000
DTSTART:20260502T150000
LOCATION:altersarmut Ulm nein e. V. - 89073 Ulm Ensingerstrasse 19
SUMMARY:Veranstaltungskalender Ulm/Neu-Ulm - Steuergeschichte - Steuergeschichten
BEGIN:VALARM
ACTION:DISPLAY
TRIGGER:-P1D
END:VALARM
END:VEVENT
END:VCALENDAR
