BEGIN:VCALENDAR
METHOD:publish
PRODID:-//Stadt Ulm//NONSGML v1.0//DE
VERSION:2.0
BEGIN:VEVENT
UID:support@ulm.de
DTSTAMP:20260424T014800Z
DESCRIPTION:Spatzenwiese\n\nNeben Mendes Historischem Jahrmarkt gibt es wieder ein buntes Programm für die ganze Familie mit der neuen   "BOOM- Rhythmus-Show", Musik, Magie, Modellierballons, Drehorgelspieler, Karate, Kinderschminken, Rittern, Capoeira, Märchen, Kinderliedern und Clownerie. Außerdem lädt Jessica Heppenheimers Imbiss noch zur gemütlichen Einkehr ein.
Das Programm findet ausschließlich bei schönem Wetter statt. Hotline: 0163-182 97 63.\n\n\nUm die genauen Informationen noch einmal anzuschauen, klicken Sie bitte auf folgenden Link: \nhttps://veranstaltungen.ulm.de/leoonline/portals/ulm/veranstaltungen/id/52273/
DTEND:20260512T190000
DTSTART:20260512T140000
LOCATION:Friedrichsau - 89073 Ulm Gänswieseweg
SUMMARY:Veranstaltungskalender Ulm/Neu-Ulm - Spatzenwiese
BEGIN:VALARM
ACTION:DISPLAY
TRIGGER:-P1D
END:VALARM
END:VEVENT
END:VCALENDAR
