BEGIN:VCALENDAR
METHOD:publish
PRODID:-//Stadt Ulm//NONSGML v1.0//DE
VERSION:2.0
BEGIN:VEVENT
UID:support@ulm.de
DTSTAMP:20260424T022400Z
DESCRIPTION:Best of Bavaria: Leseabend mit Christian Katzschmann und Christl Mayr (Theater Ulm)\n\nBayern: Berge, Seen, München – und vor allem eine bemerkenswerte Dichte an Sonderlingen.

In dieser Doppel-Conférence des bajuwarischen Humors servieren Christl Mayr und Christian Katzschmann vom Theater Ulm das Kuriositätenkabinett des Freistaats. Da trifft Karl Valentins unpolitische Käsrede auf L. V. Krockas neurotische Hausbesitzeranalyse und Oskar Maria Grafs bayerische Weltbetrachtung mischt sich mit literarischen Petitessen aus anderthalb Jahrhunderten. 

Ein Abend zwischen Lesebrillenmoment und Realitätskipper – und ziemlich großer Gaudi.

ÜBER „NU:LIT“:
2026 bringt „NU:LIT“ die Mundwinkel wieder nach oben, vertieft Lach- statt Sorgenfalten und verteilt literarische Lachanfälle im ganzen Neu-Ulmer Stadtgebiet. Die kleine, aber feine Reihe hat sich dem Humor in der Literatur verschrieben.
Weitere Infos unter neu-ulm.de/nulit:\n\n\nUm die genauen Informationen noch einmal anzuschauen, klicken Sie bitte auf folgenden Link: \nhttps://veranstaltungen.ulm.de/leoonline/portals/ulm/veranstaltungen/id/52302/
DTEND:20260509T190000
DTSTART:20260509T190000
LOCATION:Erlöserkirche Offenhausen - 89231 Neu-Ulm Martin-Luther-Straße 2
SUMMARY:Veranstaltungskalender Ulm/Neu-Ulm - Best of Bavaria: Leseabend mit Christian Katzschmann und Christl Mayr (Theater Ulm)
BEGIN:VALARM
ACTION:DISPLAY
TRIGGER:-P1D
END:VALARM
END:VEVENT
END:VCALENDAR
