BEGIN:VCALENDAR
METHOD:publish
PRODID:-//Stadt Ulm//NONSGML v1.0//DE
VERSION:2.0
BEGIN:VEVENT
UID:support@ulm.de
DTSTAMP:20260425T211900Z
DESCRIPTION:Barhopping für Singles in Ulm seit 2013\n\nVergiss Online-Dating! Live verlieben geht besser
Ein Abend, drei Bars und vielleicht die große Liebe: Lerne beim Barhopping in Ulm nette Singles kennen! Schon mehr als 50 Singles angemeldet.

Anmeldung über die Webseite: https://face-to-face-dating.de/ulm\n\n\nUm die genauen Informationen noch einmal anzuschauen, klicken Sie bitte auf folgenden Link: \nhttps://veranstaltungen.ulm.de/leoonline/portals/ulm/veranstaltungen/id/48586/
DTEND:20261002T190000
DTSTART:20261002T190000
LOCATION:Innenstadt Ulm - 89073 Ulm
SUMMARY:Veranstaltungskalender Ulm/Neu-Ulm - Barhopping für Singles in Ulm seit 2013
BEGIN:VALARM
ACTION:DISPLAY
TRIGGER:-P1D
END:VALARM
END:VEVENT
END:VCALENDAR
