BEGIN:VCALENDAR
METHOD:publish
PRODID:-//Stadt Ulm//NONSGML v1.0//DE
VERSION:2.0
BEGIN:VEVENT
UID:support@ulm.de
DTSTAMP:20260423T191400Z
DESCRIPTION:Flippyland Hüpfburgenpark am Donaubad\n\nErlebe den ultimativen Hüpf-Spaß in der Eis-/Inlinehalle der Eissportanlage am Donaubad! Vom 04. April bis 10. Mai verwandelt unser Partner FLIPPYLAND die Eis-/Inlinehalle in ein riesiges Paradies aus Hüpfburgen, Klettermodulen, Rutschen und mit über 90 Metern Laufstrecke!\n\n\nUm die genauen Informationen noch einmal anzuschauen, klicken Sie bitte auf folgenden Link: \nhttps://veranstaltungen.ulm.de/leoonline/portals/ulm/veranstaltungen/id/48795/
DTEND:20260507T180000
DTSTART:20260504T140000
LOCATION:Eissportanlage des Donaubad - 89231 Neu-Ulm Wiblingerstr. 55
SUMMARY:Veranstaltungskalender Ulm/Neu-Ulm - Flippyland Hüpfburgenpark am Donaubad
BEGIN:VALARM
ACTION:DISPLAY
TRIGGER:-P1D
END:VALARM
END:VEVENT
END:VCALENDAR
