BEGIN:VCALENDAR
METHOD:publish
PRODID:-//Stadt Ulm//NONSGML v1.0//DE
VERSION:2.0
BEGIN:VEVENT
UID:support@ulm.de
DTSTAMP:20260423T234500Z
DESCRIPTION:ULM MACHT SPORT – UMSONST & DRAUSSEN\n\nDas Bewegungsprogramm ULM MACHT SPORT – UMSONST & DRAUSSEN wird von der Stadt Ulm in Kooperation mit der Gesundheitskasse AOK Ulm-Biberach und weiteren Sponsoren im Rahmen der kommunalen Bewegungsförderung und des Präventionsgesetzes angeboten und finanziert. Die Kursteilnehmenden sind während des Kurses über die Stadt Ulm versichert.\n\n\nUm die genauen Informationen noch einmal anzuschauen, klicken Sie bitte auf folgenden Link: \nhttps://veranstaltungen.ulm.de/leoonline/portals/ulm/veranstaltungen/id/52247/
DTEND:20260727T190000
DTSTART:20260727T180000
LOCATION:Unterhalb der Adalbert-Stifter-Schule auf der öffentlichen Grünfläche - 89075 Ulm Ruhländerweg 1
SUMMARY:Veranstaltungskalender Ulm/Neu-Ulm - ULM MACHT SPORT – UMSONST & DRAUSSEN
BEGIN:VALARM
ACTION:DISPLAY
TRIGGER:-P1D
END:VALARM
END:VEVENT
END:VCALENDAR
