BEGIN:VCALENDAR
METHOD:publish
PRODID:-//Stadt Ulm//NONSGML v1.0//DE
VERSION:2.0
BEGIN:VEVENT
UID:support@ulm.de
DTSTAMP:20260421T231000Z
DESCRIPTION:heute mach ich blau\n\nAusstellung der Gildepreisträgerin Gila Steffe-Krug textile Bilder
Öffnungszeit. Do/Fr von 14-17:00, Sa/So 11-17:00\n\n\nUm die genauen Informationen noch einmal anzuschauen, klicken Sie bitte auf folgenden Link: \nhttps://veranstaltungen.ulm.de/leoonline/portals/ulm/veranstaltungen/id/52212/
DTEND:20260423T170000
DTSTART:20260423T140000
LOCATION:Künstlergilde Ulm e.V. - 89073 Ulm Donaustraße 5
SUMMARY:Veranstaltungskalender Ulm/Neu-Ulm - heute mach ich blau
BEGIN:VALARM
ACTION:DISPLAY
TRIGGER:-P1D
END:VALARM
END:VEVENT
END:VCALENDAR
