BEGIN:VCALENDAR
METHOD:publish
PRODID:-//Stadt Ulm//NONSGML v1.0//DE
VERSION:2.0
BEGIN:VEVENT
UID:support@ulm.de
DTSTAMP:20260422T094600Z
DESCRIPTION:Neu-Ulmer Wochenmarkt\n\nMittwochs und samstags ist Markttag in Neu-Ulm.
Auf dem Neu-Ulm Wochenmarkt können Sie regionale, frische Produkte einkaufen. Das Angebot reicht von Brot- und Backwaren, Pflanzen, Obst, Gemüse und Kräuter über Fleisch- und Wurstwaren, Käse und andere Milchprodukte sowie Eier bis hin zu Kaffee und Tee, Feinkostwaren und vielem mehr.

Weitere Informationen zum Neu-Ulmer Wochenmarkt unter www.wochenmarkt.neu-ulm.de:\n\n\nUm die genauen Informationen noch einmal anzuschauen, klicken Sie bitte auf folgenden Link: \nhttps://veranstaltungen.ulm.de/leoonline/portals/ulm/veranstaltungen/id/1050/
DTEND:20260523T130000
DTSTART:20260523T070000
LOCATION:Petrusplatz - 89231 Neu-Ulm Petrusplatz
SUMMARY:Veranstaltungskalender Ulm/Neu-Ulm - Neu-Ulmer Wochenmarkt
BEGIN:VALARM
ACTION:DISPLAY
TRIGGER:-P1D
END:VALARM
END:VEVENT
END:VCALENDAR
