BEGIN:VCALENDAR
METHOD:publish
PRODID:-//Stadt Ulm//NONSGML v1.0//DE
VERSION:2.0
BEGIN:VEVENT
UID:support@ulm.de
DTSTAMP:20260422T041000Z
DESCRIPTION:Museumsfest im Edwin Scharff Museum\n\nDas Edwin Scharff Museum startet mit dem jährlich stattfindenden Museumsfest in den Mai. Das vielfältige Führungs- und Mach-Mit-Angebot bietet die ideale Möglichkeit, die aktuellen Ausstellungen zu entdecken.\n\n\nUm die genauen Informationen noch einmal anzuschauen, klicken Sie bitte auf folgenden Link: \nhttps://veranstaltungen.ulm.de/leoonline/portals/ulm/veranstaltungen/id/52242/
DTEND:20260503T180000
DTSTART:20260502T100000
LOCATION:Edwin Scharff Museum - 89231 Neu-Ulm Petrusplatz 4
SUMMARY:Veranstaltungskalender Ulm/Neu-Ulm - Museumsfest im Edwin Scharff Museum
BEGIN:VALARM
ACTION:DISPLAY
TRIGGER:-P1D
END:VALARM
END:VEVENT
END:VCALENDAR
