BEGIN:VCALENDAR
METHOD:publish
PRODID:-//Stadt Ulm//NONSGML v1.0//DE
VERSION:2.0
BEGIN:VEVENT
UID:support@ulm.de
DTSTAMP:20260423T084900Z
DESCRIPTION:Schneideplotter-Einweisung\n\nMit dem Schneideplotter lassen sich z.B. Sticker, Schablonen oder Formen aus Papier und Folien schneiden – perfekt für Bastel- oder Schulprojekte. Egal ob Fensterbilder, DIY-Wanddeko oder zum Individualisieren von Textilien: deine Ideen können Form annehmen. 

Für eine Teilnahme bitten wir um eine Anmeldung per Email (makerspace@ulm.de). 
Die Nutzung des Schneideplotters ist unter 14 Jahren nur mit eingewiesenen Erwachsenen möglich.\n\n\nUm die genauen Informationen noch einmal anzuschauen, klicken Sie bitte auf folgenden Link: \nhttps://veranstaltungen.ulm.de/leoonline/portals/ulm/veranstaltungen/id/49630/
DTEND:20260728T163000
DTSTART:20260728T150000
LOCATION:Makerspace Zentralbibliothek Ulm - 89073 Ulm Vestgasse 1
SUMMARY:Veranstaltungskalender Ulm/Neu-Ulm - Schneideplotter-Einweisung
BEGIN:VALARM
ACTION:DISPLAY
TRIGGER:-P1D
END:VALARM
END:VEVENT
END:VCALENDAR
