BEGIN:VCALENDAR
METHOD:publish
PRODID:-//Stadt Ulm//NONSGML v1.0//DE
VERSION:2.0
BEGIN:VEVENT
UID:support@ulm.de
DTSTAMP:20260422T011100Z
DESCRIPTION:Soundful Silence\n\nLass dich von unterschiedlichen Klängen & Frequenzen berühren & führen.

Lausche mit dem Körper und allen Sinnen.

Lausche mit deiner Seele und beobachte, wie alles miteinander schwingt -

Emotionen, Gedanken, Frequenzen und hierbei ein heilsamer & friedvoller Raum in dir entsteht.

Bis alles und nichts eins wird. In dir.

Du magst dabei sein?

Dein Mattenplatz kostet 20,00 € für Atelier Kund:innen (mit Abo oder aktueller Karte) &  25,00 € für Externe und 19,00 € für Wellpass\n\n\nUm die genauen Informationen noch einmal anzuschauen, klicken Sie bitte auf folgenden Link: \nhttps://veranstaltungen.ulm.de/leoonline/portals/ulm/veranstaltungen/id/52237/
DTEND:20260424T201500
DTSTART:20260424T190000
LOCATION:Mind & Body Atelier Ulm - 89077 Ulm Kleiststraße 7
SUMMARY:Veranstaltungskalender Ulm/Neu-Ulm - Soundful Silence
BEGIN:VALARM
ACTION:DISPLAY
TRIGGER:-P1D
END:VALARM
END:VEVENT
END:VCALENDAR
