BEGIN:VCALENDAR
METHOD:publish
PRODID:-//Stadt Ulm//NONSGML v1.0//DE
VERSION:2.0
BEGIN:VEVENT
UID:support@ulm.de
DTSTAMP:20260423T115500Z
DESCRIPTION:art.mosphere: Salsa-Tanzkurs und After-Work-Besuch der Tanzausstellung\n\nAm Welttag des Tanzes tanzt auch das Museum – mit allen, die auch noch zu später Stunde Kunst und Musik erleben möchten. 
Im Foyer zeigt das Tanzstudio „Lamovida“ Besuchende allen Alters die Grundschritte von Salsa, Bachata und Merengue zu lateinamerikanischen Klängen. Das Museumscafé bietet dazu Cocktails und alkoholfreie Getränke an.

18 Uhr: Grundschritte für Salsa, Bachata und Merengue

20 Uhr: Kunsthistorischer Rundgang durch die Ausstellung "Tanze Dein Leben - Tanze Dich selbst" 

Das Kunstmuseum ist bis 22 Uhr geöffnet.

Eintritt inkl. Tanzkurs und Führung durch die Ausstellung 6 Euro
Für Studierende ist die Veranstaltung kostenfrei!\n\n\nUm die genauen Informationen noch einmal anzuschauen, klicken Sie bitte auf folgenden Link: \nhttps://veranstaltungen.ulm.de/leoonline/portals/ulm/veranstaltungen/id/52235/
DTEND:20260429T220000
DTSTART:20260429T180000
LOCATION:Edwin Scharff Museum - 89231 Neu-Ulm Petrusplatz 4
SUMMARY:Veranstaltungskalender Ulm/Neu-Ulm - art.mosphere: Salsa-Tanzkurs und After-Work-Besuch der Tanzausstellung
BEGIN:VALARM
ACTION:DISPLAY
TRIGGER:-P1D
END:VALARM
END:VEVENT
END:VCALENDAR
