BEGIN:VCALENDAR
METHOD:publish
PRODID:-//Stadt Ulm//NONSGML v1.0//DE
VERSION:2.0
BEGIN:VEVENT
UID:support@ulm.de
DTSTAMP:20260423T114000Z
DESCRIPTION:Interkultureller Spaziergang\n\nGemeinsam mit Teilnehmenden der Patenschaftsprojekte »Willkommen in Ulm« und »Frauen treffen Frauen« gehen wir spazieren. Du erfährst, wie bereichernd die Patenschaften sind, wie Tandems sich gegenseitig unterstützen, Ulm entdecken, Kultur teilen und ganz nebenbei Deutsch lernen. Dieser Termin ist Teil der EngagierDich-Woche Ulm. Treffpunkt und Start ist in der Radgasse 8 in Ulm. Anmeldung erbeten.\n\n\nUm die genauen Informationen noch einmal anzuschauen, klicken Sie bitte auf folgenden Link: \nhttps://veranstaltungen.ulm.de/leoonline/portals/ulm/veranstaltungen/id/52232/
DTEND:20260429T183000
DTSTART:20260429T170000
LOCATION:Ulm, Radgasse 8 - 89073 Ulm Radgasse 8
SUMMARY:Veranstaltungskalender Ulm/Neu-Ulm - Interkultureller Spaziergang
BEGIN:VALARM
ACTION:DISPLAY
TRIGGER:-P1D
END:VALARM
END:VEVENT
END:VCALENDAR
