BEGIN:VCALENDAR
METHOD:publish
PRODID:-//Stadt Ulm//NONSGML v1.0//DE
VERSION:2.0
BEGIN:VEVENT
UID:support@ulm.de
DTSTAMP:20260421T232500Z
DESCRIPTION:Finde Dein Kurzzeit-Engagement per App\n\nLust auf Engagement, aber wenig Zeit? Bei dieser Aktion stellen wir dir die neue »engagiert in ulm-App« vor. Entdecke, wie du ganz unkompliziert Kurzzeit-Engagement in Ulm findest und dich 
flexibel für gute Projekte einsetzen kannst. Eine Veranstaltung im Rahmen der EngagierDich-Woche Ulm.\n\n\nUm die genauen Informationen noch einmal anzuschauen, klicken Sie bitte auf folgenden Link: \nhttps://veranstaltungen.ulm.de/leoonline/portals/ulm/veranstaltungen/id/52221/
DTEND:20260423T180000
DTSTART:20260423T170000
LOCATION:Ulm, Radgasse 8 - 89073 Ulm Radgasse 8
SUMMARY:Veranstaltungskalender Ulm/Neu-Ulm - Finde Dein Kurzzeit-Engagement per App
BEGIN:VALARM
ACTION:DISPLAY
TRIGGER:-P1D
END:VALARM
END:VEVENT
END:VCALENDAR
