BEGIN:VCALENDAR
METHOD:publish
PRODID:-//Stadt Ulm//NONSGML v1.0//DE
VERSION:2.0
BEGIN:VEVENT
UID:support@ulm.de
DTSTAMP:20260422T115900Z
DESCRIPTION:Erkunde Ulms Barrierefreiheit\n\nMach mit beim Wheelmapping und unterstütze uns dabei, Barrieren in 
Ulm sichtbar zu machen. In Kleingruppen erkunden wir Restaurants, Cafés, öffentliche Gebäude und Einsatzstellen für Engagements. Wir prüfen Zugänge, Wege und Ausstattung, dokumentieren Hindernisse und sammeln wichtige Hinweise für mehr Barrierefreiheit in Ulm. Lerne dabei ein Tool kennen, mit dem du dich überall engagieren kannst, indem du Barrieren dokumentierst. Mit Anmeldung: info@engagiert-in-ulm.de\n\n\nUm die genauen Informationen noch einmal anzuschauen, klicken Sie bitte auf folgenden Link: \nhttps://veranstaltungen.ulm.de/leoonline/portals/ulm/veranstaltungen/id/52222/
DTEND:20260425T160000
DTSTART:20260425T140000
LOCATION:Ulm, Radgasse 8 - 89073 Ulm Radgasse 8
SUMMARY:Veranstaltungskalender Ulm/Neu-Ulm - Erkunde Ulms Barrierefreiheit
BEGIN:VALARM
ACTION:DISPLAY
TRIGGER:-P1D
END:VALARM
END:VEVENT
END:VCALENDAR
