BEGIN:VCALENDAR
METHOD:publish
PRODID:-//Stadt Ulm//NONSGML v1.0//DE
VERSION:2.0
BEGIN:VEVENT
UID:support@ulm.de
DTSTAMP:20260422T011000Z
DESCRIPTION:Nana Mandl - holding it together\n\nDie Installation der in Wien lebenden Künstlerin Nana Mandl über das Aushalten und das tägliche Zusammenhalten nutzt die Architektur des Schuhhaussaals, um eine zentrale Frage zu stellen: Welche Säulen tragen unsere Gesellschaft wirklich? Im Fokus der textilen Collagen steht die oftmals unsichtbare Arbeit von Frauen und Müttern, die unter stetigem gesellschaftlichem Erwartungsdruck geleistet wird, ohne die unser Alltag allerdings auseinanderbrechen würde.\n\n\nUm die genauen Informationen noch einmal anzuschauen, klicken Sie bitte auf folgenden Link: \nhttps://veranstaltungen.ulm.de/leoonline/portals/ulm/veranstaltungen/id/52216/
DTEND:20260510T170000
DTSTART:20260510T110000
LOCATION:Kunstverein Ulm - 89073 Ulm Kramgasse 4
SUMMARY:Veranstaltungskalender Ulm/Neu-Ulm - Nana Mandl - holding it together
BEGIN:VALARM
ACTION:DISPLAY
TRIGGER:-P1D
END:VALARM
END:VEVENT
END:VCALENDAR
