BEGIN:VCALENDAR
METHOD:publish
PRODID:-//Stadt Ulm//NONSGML v1.0//DE
VERSION:2.0
BEGIN:VEVENT
UID:support@ulm.de
DTSTAMP:20260422T144700Z
DESCRIPTION:Führungen in der Bundesfestung Ulm: Wilhelmsburg\n\nBundesfestung Ulm: Aktuelle Informationen über Besuche in den Festungswerken finden Sie im Internet unter: www.festung-ulm.de
Eintritt: frei - Bitte spenden Sie.\n\n\nUm die genauen Informationen noch einmal anzuschauen, klicken Sie bitte auf folgenden Link: \nhttps://veranstaltungen.ulm.de/leoonline/portals/ulm/veranstaltungen/id/2278/
DTEND:20270418T110000
DTSTART:20270418T110000
LOCATION:Treffpunkt: Wilhelmsburg Werk XII - 89075 Ulm Prittwitzstraße 100
SUMMARY:Veranstaltungskalender Ulm/Neu-Ulm - Führungen in der Bundesfestung Ulm: Wilhelmsburg
BEGIN:VALARM
ACTION:DISPLAY
TRIGGER:-P1D
END:VALARM
END:VEVENT
END:VCALENDAR
