BEGIN:VCALENDAR
METHOD:publish
PRODID:-//Stadt Ulm//NONSGML v1.0//DE
VERSION:2.0
BEGIN:VEVENT
UID:support@ulm.de
DTSTAMP:20260421T064200Z
DESCRIPTION:Workshop: Von alter Jeans zu neuer Brusttasche\n\nBring deine alten Jeansteile mit und gib ihnen ein neues Leben!

In unserem Workshop nähst du unter Anleitung einen individuellen Brustbeutel. Bringe dazu eine lange Jeanshose/-hemd sowie nicht-elastische Stoffreste mit. Wir stellen bereit: Nähmaschinen, Garne, Reißverschlüsse, Gürtelringe und Verschlüsse (gerne eigenes Material mitbringen).

Teilnahme auf Spendenbasis (20 Euro Richtwert, bitte bar mitbringen).

Grundkenntnisse an der Nähmaschine sind erforderlich.

Anmeldung unter: makerspace@ulm.de.\n\n\nUm die genauen Informationen noch einmal anzuschauen, klicken Sie bitte auf folgenden Link: \nhttps://veranstaltungen.ulm.de/leoonline/portals/ulm/veranstaltungen/id/52177/
DTEND:20260423T130000
DTSTART:20260423T130000
LOCATION:Makerspace Zentralbibliothek Ulm - 89073 Ulm Vestgasse 1
SUMMARY:Veranstaltungskalender Ulm/Neu-Ulm - Workshop: Von alter Jeans zu neuer Brusttasche
BEGIN:VALARM
ACTION:DISPLAY
TRIGGER:-P1D
END:VALARM
END:VEVENT
END:VCALENDAR
