BEGIN:VCALENDAR
METHOD:publish
PRODID:-//Stadt Ulm//NONSGML v1.0//DE
VERSION:2.0
BEGIN:VEVENT
UID:support@ulm.de
DTSTAMP:20260424T002000Z
DESCRIPTION:HEADLINER SHOW: LE SHUUK\n\nDer Top Künstler LE SHUUK kommt nach Ulm!

LE SHUUK & FRIENDS
@ FRAU BERGER ULM
#HAUTNAHEDITION - 360° Stage

- LINE UP -
LE SHUUK
SUPPORT: RAGUNDE

Einlass ab 22 Uhr und 18 Jahren.
Streng limitierte Vorverkaufstickets!\n\n\nUm die genauen Informationen noch einmal anzuschauen, klicken Sie bitte auf folgenden Link: \nhttps://veranstaltungen.ulm.de/leoonline/portals/ulm/veranstaltungen/id/52154/
DTEND:20260503T050000
DTSTART:20260502T220000
LOCATION:Club Frau Berger - 89077 Ulm Ehinger Straße 19
SUMMARY:Veranstaltungskalender Ulm/Neu-Ulm - HEADLINER SHOW: LE SHUUK
BEGIN:VALARM
ACTION:DISPLAY
TRIGGER:-P1D
END:VALARM
END:VEVENT
END:VCALENDAR
