BEGIN:VCALENDAR
METHOD:publish
PRODID:-//Stadt Ulm//NONSGML v1.0//DE
VERSION:2.0
BEGIN:VEVENT
UID:support@ulm.de
DTSTAMP:20260420T090100Z
DESCRIPTION:Atlantis - Versunkene Welten\n\nSpiegelnde Wasseroberflächen, Wurzeln, die aus Mauern wachsen, Türen, die sich in leere Räume öffnen. Die Bilder und Objekte der Ausstellung erzählen Geschichten von versunkenen Welten.

Der Verlust tausender europäischer Siedlungen zählt zu den tiefgreifenden Traumata und Umbrüchen des 20. und 21. Jahrhunderts. Vielfältig sind die Ursachen für die Entvölkerung und das Aufgeben ganzer Dörfer. Sie reichen von sozialen, politischen und demografischen Faktoren bis hin zu Naturkatastrophen.

„Atlantis“ ist eine Ausstellungsreihe, die den Spuren vergangener Orte in Südosteuropa nachspürt. Im DZM erinnert sie an Siedlungen, in denen einst deutsche oder andere Minderheiten gelebt haben – kulturell vielfältige Dörfer und Gemeinden, die heute nicht mehr existieren. Und mit den Orten verschwand auch ihre Vielfalt.

„Atlantis – Versunkene Welten“ erzählt von Lindenfeld und Ada Kaleh in Rumänien, Gakovo/Gakowa und Kruševlje/Kruschiwl in Serbien, Stari Tabor/Alttabor und Novi Log/Neulag in Slowenien, Završje/Piemonte d’Istria in Kroatien sowie Derenk und Dolina in Ungarn. Objekte, Geschichten, Archivbilder, Klanginstallationen und Aufnahmen des Fotokünstlers Frank Gaudlitz lassen sie noch einmal auftauchen.

Die Ausstellung wurde in Zusammenarbeit mit der Koordinierung Ostmittel- und Südosteuropa am Museum Europäischer Kulturen in Berlin, sowie mit Wissenschaftlern, Museen und Forschungsinstitutionen in Rumänien, Serbien, Slowenien, Kroatien und Ungarn verwirklicht.

 

Die Führung ist auf max. 15 Teilnehmer begrenzt.

Dauer: ca. 60 Minuten

Kosten: 3,- € zzgl. Eintritt\n\n\nUm die genauen Informationen noch einmal anzuschauen, klicken Sie bitte auf folgenden Link: \nhttps://veranstaltungen.ulm.de/leoonline/portals/ulm/veranstaltungen/id/52151/
DTEND:20260510T140000
DTSTART:20260510T140000
LOCATION:Donauschwäbisches Zentralmuseum - 89077 Ulm Schillerstraße 1
SUMMARY:Veranstaltungskalender Ulm/Neu-Ulm - Atlantis - Versunkene Welten
BEGIN:VALARM
ACTION:DISPLAY
TRIGGER:-P1D
END:VALARM
END:VEVENT
END:VCALENDAR
