BEGIN:VCALENDAR
METHOD:publish
PRODID:-//Stadt Ulm//NONSGML v1.0//DE
VERSION:2.0
BEGIN:VEVENT
UID:support@ulm.de
DTSTAMP:20260424T084900Z
DESCRIPTION:CATacombs Of Metal XXXVIII\n\nBLACK CILICE und CONSUMMATIO spielen im CAT ihr einziges Deutschland-Konzert auf ihrer Tour!

BLACK CILICE (PT)
(Raw Black Metal)
https://blackcilice.bandcamp.com/

CONSUMMATIO (PT)
(Raw Black Metal)
https://consummatio.bandcamp.com/album/circulus

NORDLYS (DE) - Album-Release-Show!!!
(Black Metal)
https://www.facebook.com/Nordlys.est.1994/

THE AEONS TORN (DE)
(Black/Doom Metal)
https://www.facebook.com/theaeonstorn/\n\n\nUm die genauen Informationen noch einmal anzuschauen, klicken Sie bitte auf folgenden Link: \nhttps://veranstaltungen.ulm.de/leoonline/portals/ulm/veranstaltungen/id/52094/
DTEND:20260510T030000
DTSTART:20260509T190000
LOCATION:Cat - 89075 Ulm Prittwitzstraße 36
SUMMARY:Veranstaltungskalender Ulm/Neu-Ulm - CATacombs Of Metal XXXVIII
BEGIN:VALARM
ACTION:DISPLAY
TRIGGER:-P1D
END:VALARM
END:VEVENT
END:VCALENDAR
