BEGIN:VCALENDAR
METHOD:publish
PRODID:-//Stadt Ulm//NONSGML v1.0//DE
VERSION:2.0
BEGIN:VEVENT
UID:support@ulm.de
DTSTAMP:20260423T074100Z
DESCRIPTION:Flohmarkt auf dem Stadtteilplatz Edisonallee im Wiley Neu-Ulm\n\nFlohmarkt im Wiley in Neu-Ulm. Ab 18.00 Uhr spielt das Trio „Er, Du & Ich".
Aufbau ab 15.00 Uhr. Anmeldung nicht erforderlich. Unkostenbeitrag für Verkäufer*innen 3€/m. 
Verkauf von Kaffee/kalte Getränke, Langos und Waffeln durch den Bürgerverein Wiley e.V.\n\n\nUm die genauen Informationen noch einmal anzuschauen, klicken Sie bitte auf folgenden Link: \nhttps://veranstaltungen.ulm.de/leoonline/portals/ulm/veranstaltungen/id/49991/
DTEND:20260509T210000
DTSTART:20260509T160000
LOCATION:Wohngebiet Wiley Süd - 89231 Neu-Ulm Edison Allee 1
SUMMARY:Veranstaltungskalender Ulm/Neu-Ulm - Flohmarkt auf dem Stadtteilplatz Edisonallee im Wiley Neu-Ulm
BEGIN:VALARM
ACTION:DISPLAY
TRIGGER:-P1D
END:VALARM
END:VEVENT
END:VCALENDAR
