BEGIN:VCALENDAR
METHOD:publish
PRODID:-//Stadt Ulm//NONSGML v1.0//DE
VERSION:2.0
BEGIN:VEVENT
UID:support@ulm.de
DTSTAMP:20260421T031200Z
DESCRIPTION:Museum im Grünen entdecken\n\nAuf Entdeckertour durch unser Museum und in den Gärten gibt es viel zu sehen und zu erleben.
13 - 17 Uhr Wir bauen den Gartenentdecker:innen-Garten. Kostenloses Mitmachangebot für Eltern mit Kindern von 6 bis 12 Jahren. Mit Platzreservierung. Führung (14 Uhr) durch Gärten und Ausstellung "Sehnsucht Garten", Eintritt frei.\n\n\nUm die genauen Informationen noch einmal anzuschauen, klicken Sie bitte auf folgenden Link: \nhttps://veranstaltungen.ulm.de/leoonline/portals/ulm/veranstaltungen/id/51883/
DTEND:20260517T170000
DTSTART:20260517T110000
LOCATION:Museum der Gartenkultur - 89257 Illertissen Jungviehweide 3
SUMMARY:Veranstaltungskalender Ulm/Neu-Ulm - Museum im Grünen entdecken
BEGIN:VALARM
ACTION:DISPLAY
TRIGGER:-P1D
END:VALARM
END:VEVENT
END:VCALENDAR
